View In:
ArcGIS JavaScript
ArcGIS Online Map Viewer
ArcGIS Earth
ArcMap
View Footprint In:
ArcGIS Online Map Viewer
Service Description: The dataset “Extended wetland ecosystem” is a derived product of the CLC layer for the year 2012 (v20) which has then been reclassified into 20 wetland classes on the basis of ancillary spatial layers (“Water and Wetness” and “Riparian Zone Layer” Copernicus products, the “Ecosystem types of Europe” v3.1 and “The Global Spatial Water Explorer” datasets).
The resulting map, besides inland and coastal wetlands, includes transitional ecosystems corresponding to wetlands such as riparian forests, wet grasslands, estuaries, or rice fields. This reclassification integrates wetland habitats classified under other ecosystems which depend at the hydro-ecological level on wetlands for their proper use and management.
Name: Land/Extended_wetland_ecosystem_2012
Description: The dataset “Extended wetland ecosystem” is a derived product of the CLC layer for the year 2012 (v20) which has then been reclassified into 20 wetland classes on the basis of ancillary spatial layers (“Water and Wetness” and “Riparian Zone Layer” Copernicus products, the “Ecosystem types of Europe” v3.1 and “The Global Spatial Water Explorer” datasets).
The resulting map, besides inland and coastal wetlands, includes transitional ecosystems corresponding to wetlands such as riparian forests, wet grasslands, estuaries, or rice fields. This reclassification integrates wetland habitats classified under other ecosystems which depend at the hydro-ecological level on wetlands for their proper use and management.
Single Fused Map Cache: false
Extent:
XMin: -6290123.623699402
YMin: 2788011.0549333077
XMax: 8115876.376300598
YMax: 1.1996911054933308E7
Spatial Reference: 102100
(3857)
Initial Extent:
XMin: -6290123.623699402
YMin: 2788011.0549333077
XMax: 8115876.376300598
YMax: 1.1996911054933308E7
Spatial Reference: 102100
(3857)
Full Extent:
XMin: -6290123.623699402
YMin: 2788011.0549333077
XMax: 8115876.376300598
YMax: 1.1996911054933308E7
Spatial Reference: 102100
(3857)
Pixel Size X: 100.0
Pixel Size Y: 100.0
Band Count: 1
Pixel Type: S16
RasterFunction Infos: {"rasterFunctionInfos": [
{
"name": "ExtendedWetlandsEcosystem2012",
"description": "A raster function template.",
"help": ""
},
{
"name": "None",
"description": "",
"help": ""
}
]}
Mensuration Capabilities: Basic
Has Histograms: true
Has Colormap: false
Has Multi Dimensions : false
Rendering Rule:
Min Scale: 0
Max Scale: 0
Copyright Text: @EEA
Service Data Type: esriImageServiceDataTypeThematic
Min Values: 0
Max Values: 22
Mean Values: 1.5759915556726
Standard Deviation Values: 5.001956408485
Object ID Field:
Fields:
None
Default Mosaic Method: Center
Allowed Mosaic Methods:
SortField:
SortValue: null
Mosaic Operator: First
Default Compression Quality: 75
Default Resampling Method: Bilinear
Max Record Count: null
Max Image Height: 4100
Max Image Width: 15000
Max Download Image Count: null
Max Mosaic Image Count: null
Allow Raster Function: true
Allow Copy: true
Allow Analysis: true
Allow Compute TiePoints: false
Supports Statistics: false
Supports Advanced Queries: false
Use StandardizedQueries: false
Raster Type Infos:
Name: Raster Dataset
Description: Supports all ArcGIS Raster Datasets
Help:
Has Raster Attribute Table: true
Edit Fields Info: null
Ownership Based AccessControl For Rasters: null
Child Resources:
Info
Raster Attribute Table
Histograms
Statistics
Key Properties
Legend
Raster Function Infos
Supported Operations:
Export Image
Identify
Measure
Compute Histograms
Compute Statistics Histograms
Get Samples
Compute Class Statistics
Query Boundary
Compute Pixel Location
Compute Angles
Validate
Project