{
 "currentVersion": 11.1,
 "serviceDescription": "This raster file is the the above ground vegetation biomass productivity time-series for the period 2000-2016. The web map addresses trends in land surface productivity derived from remote sensing observed time series of vegetation indices. The vegetation index used in the indicator is the Plant Phenology Index (PPI, Jin and Eklundh, 2014). PPI is based on the MODIS Nadir BRDF-Adjusted Reflectance product (MODIS MCD43 NBAR. The product provides reflectance data for the MODIS \u201cland\u201d bands (1 - 7) adjusted using a bi-directional reflectance distribution function. This function models values as if they were collected from a nadir-view to remove so called cross-track illumination effects. The Plant Phenology Index (PPI) is a new vegetation index optimized for efficient monitoring of vegetation phenology. It is derived from radiative transfer solution using reflectance in visible-red (RED) and near-infrared (NIR) spectral domains. PPI is defined to have a linear relationship to the canopy green leaf area index (LAI) and its temporal pattern is strongly similar to the temporal pattern of gross primary productivity (GPP) estimated by flux towers at ground reference stations. PPI is less affected by presence of snow compared to commonly used vegetation indices such as Normalized Difference Vegetation Index (NDVI) or Enhanced Vegetation Index (EVI). The product is distributed with 500 m pixel size (MODIS Sinusoidal Grid) with 8-days compositing period. ",
 "name": "Phenology/Productivity_2000_2016_percentage_change",
 "description": "This raster file is the the above ground vegetation biomass productivity time-series for the period 2000-2016. The web map addresses trends in land surface productivity derived from remote sensing observed time series of vegetation indices. The vegetation index used in the indicator is the Plant Phenology Index (PPI, Jin and Eklundh, 2014). PPI is based on the MODIS Nadir BRDF-Adjusted Reflectance product (MODIS MCD43 NBAR. The product provides reflectance data for the MODIS \u201cland\u201d bands (1 - 7) adjusted using a bi-directional reflectance distribution function. This function models values as if they were collected from a nadir-view to remove so called cross-track illumination effects. The Plant Phenology Index (PPI) is a new vegetation index optimized for efficient monitoring of vegetation phenology. It is derived from radiative transfer solution using reflectance in visible-red (RED) and near-infrared (NIR) spectral domains. PPI is defined to have a linear relationship to the canopy green leaf area index (LAI) and its temporal pattern is strongly similar to the temporal pattern of gross primary productivity (GPP) estimated by flux towers at ground reference stations. PPI is less affected by presence of snow compared to commonly used vegetation indices such as Normalized Difference Vegetation Index (NDVI) or Enhanced Vegetation Index (EVI). The product is distributed with 500 m pixel size (MODIS Sinusoidal Grid) with 8-days compositing period. ",
 "extent": {
  "xmin": -5555588.989365538,
  "ymin": 2942411.0539359506,
  "xmax": 8115911.010634462,
  "ymax": 1.199691105393595E7,
  "spatialReference": {
   "wkid": 102100,
   "latestWkid": 3857
  }
 },
 "initialExtent": {
  "xmin": -5555588.989365538,
  "ymin": 2942411.0539359506,
  "xmax": 8115911.010634462,
  "ymax": 1.199691105393595E7,
  "spatialReference": {
   "wkid": 102100,
   "latestWkid": 3857
  }
 },
 "fullExtent": {
  "xmin": -5555588.989365538,
  "ymin": 2942411.0539359506,
  "xmax": 8115911.010634462,
  "ymax": 1.199691105393595E7,
  "spatialReference": {
   "wkid": 102100,
   "latestWkid": 3857
  }
 },
 "sortableFields": "",
 "bandCount": 1,
 "pixelType": "F32",
 "minValues": [
  -500
 ],
 "maxValues": [
  500
 ],
 "meanValues": [
  5.8969927060556
 ],
 "stdvValues": [
  38.110339737449
 ],
 "hasMultidimensions": false,
 "pixelSizeX": 500,
 "pixelSizeY": 500,
 "datasetFormat": "TIFF",
 "uncompressedSize": 1980617548,
 "blockWidth": 128,
 "blockHeight": 128,
 "compressionType": "LZW",
 "bandNames": [
  "Band_1"
 ],
 "allowCopy": true,
 "allowAnalysis": true,
 "itemAccess": false,
 "noDataValue": -3.4028234663852886E38,
 "noDataValues": [
  -3.4028234663852886E38
 ],
 "minPixelSize": 0,
 "maxPixelSize": 0,
 "copyrightText": "EEA",
 "serviceDataType": "esriImageServiceDataTypeGeneric",
 "serviceSourceType": "esriImageServiceSourceTypeDataset",
 "objectIdField": "",
 "fields": [],
 "capabilities": "Mensuration,Image,Metadata",
 "defaultMosaicMethod": "Center",
 "allowedMosaicMethods": "",
 "sortField": "",
 "sortValue": null,
 "sortAscending": true,
 "mosaicOperator": "First",
 "defaultCompressionQuality": 75,
 "defaultResamplingMethod": "Bilinear",
 "maxImageHeight": 4100,
 "maxImageWidth": 15000,
 "allowRasterFunction": true,
 "rasterFunctionInfos": [
  {
   "name": "Productivity_2000_2016_percentage_change",
   "description": "Productivity_2000_2016_percentage_change",
   "help": ""
  },
  {
   "name": "None",
   "description": "",
   "help": ""
  }
 ],
 "rasterTypeInfos": [
  {
   "name": "Raster Dataset",
   "description": "Supports all ArcGIS Raster Datasets",
   "help": ""
  }
 ],
 "mensurationCapabilities": "Basic",
 "hasHistograms": true,
 "hasColormap": false,
 "hasRasterAttributeTable": false,
 "minScale": 0,
 "maxScale": 0,
 "exportTilesAllowed": false,
 "supportsStatistics": false,
 "supportsAdvancedQueries": false,
 "editFieldsInfo": null,
 "ownershipBasedAccessControlForRasters": null,
 "allowComputeTiePoints": false,
 "useStandardizedQueries": false,
 "advancedQueryCapabilities": {
  "useStandardizedQueries": false,
  "supportsStatistics": false,
  "supportsOrderBy": false,
  "supportsDistinct": false,
  "supportsPagination": false
 },
 "spatialReference": {
  "wkid": 102100,
  "latestWkid": 3857
 }
}
