{
 "extent": {
  "ymin": 2942411.0539359506,
  "xmin": -5555588.9893655377,
  "ymax": 11996911.053935951,
  "xmax": 8115911.0106344623,
  "spatialReference": {
   "latestWkid": 3857,
   "wkid": 102100
  }
 },
 "blockWidth": 128,
 "mosaicOperator": "First",
 "serviceSourceType": "esriImageServiceSourceTypeDataset",
 "hasMultidimensions": false,
 "maxImageWidth": 15000,
 "meanValues": [
  111.95468689908
 ],
 "hasColormap": false,
 "compressionType": "LZW",
 "defaultCompressionQuality": 75,
 "maxValues": [
  319
 ],
 "hasHistograms": true,
 "datasetFormat": "TIFF",
 "maxImageHeight": 4100,
 "sortField": "",
 "bandNames": [
  "Band_1"
 ],
 "spatialReference": {
  "latestWkid": 3857,
  "wkid": 102100
 },
 "fullExtent": {
  "ymin": 2942411.0539359506,
  "xmin": -5555588.9893655377,
  "ymax": 11996911.053935951,
  "xmax": 8115911.0106344623,
  "spatialReference": {
   "latestWkid": 3857,
   "wkid": 102100
  }
 },
 "bandCount": 1,
 "rasterFunctionInfos": [
  {
   "help": "",
   "name": "StartOfSeason_2000_2016_long_term_mean",
   "description": "StartOfSeason_2000_2016_long_term_mean"
  },
  {
   "help": "",
   "name": "None",
   "description": ""
  }
 ],
 "supportsStatistics": false,
 "sortableFields": "",
 "minValues": [
  -123.6428604126
 ],
 "allowRasterFunction": true,
 "allowComputeTiePoints": false,
 "serviceDataType": "esriImageServiceDataTypeGeneric",
 "supportsAdvancedQueries": false,
 "currentVersion": 12.1,
 "sortValue": null,
 "objectIdField": "",
 "blockHeight": 128,
 "initialExtent": {
  "ymin": 2942411.0539359506,
  "xmin": -5555588.9893655377,
  "ymax": 11996911.053935951,
  "xmax": 8115911.0106344623,
  "spatialReference": {
   "latestWkid": 3857,
   "wkid": 102100
  }
 },
 "pixelSizeX": 500,
 "pixelSizeY": 500,
 "defaultMosaicMethod": "Center",
 "name": "Phenology/StartOfSeason_2000_2016_long_term_mean",
 "allowedMosaicMethods": "",
 "fields": [],
 "allowAnalysis": true,
 "hasRasterAttributeTable": false,
 "useStandardizedQueries": false,
 "description": "Long term mean in the surface vegetation phenology, 2000-2016",
 "pixelType": "F32",
 "meanPixelSize": 500,
 "exportTilesAllowed": false,
 "editFieldsInfo": null,
 "rasterTypeInfos": [
  {
   "help": "",
   "name": "Raster Dataset",
   "description": "Supports all ArcGIS Raster Datasets"
  }
 ],
 "defaultResamplingMethod": "Bilinear",
 "itemAccess": false,
 "minScale": 0,
 "serviceProperties": "Center<\/MosaicMethod>First<\/MosaicOperator>true<\/SortAscending><\/LockImageID><\/TileOrderField>0<\/TileOrderBase>0.000000<\/AvgImageSpacingX>0.000000<\/AvgImageSpacingY>0.0<\/ViewPointX>0.0<\/ViewPointY>0.0<\/ViewPointDefShiftX>0.0<\/ViewPointDefShiftY>None<\/CompressionMethod>75<\/CompressionQuality>0.010000<\/CompressionTolerance>Bilinear<\/SamplingMethod><\/ImageServiceProperties><\/ImageServer>",
 "advancedQueryCapabilities": {
  "supportsStatistics": false,
  "supportsSqlExpression": false,
  "supportsOrderBy": false,
  "useStandardizedQueries": false,
  "supportsPagination": false,
  "supportsDistinct": false
 },
 "capabilities": "Mensuration,Image,Metadata",
 "maxScale": 0,
 "stdvValues": [
  32.174869352064
 ],
 "allowedFields": "",
 "minPixelSize": 0,
 "resampling": false,
 "noDataValues": [
  -3.4028234663852886E+38
 ],
 "sortAscending": true,
 "inspectionCapabilities": "",
 "maxPixelSize": 0,
 "noDataValue": -3.4028234663852886E+38,
 "allowedCompressions": "None,JPEG,LZ77,LERC",
 "uncompressedSize": 1980617548,
 "serviceDescription": "Long term mean in the surface vegetation phenology, 2000-2016",
 "allowCopy": true,
 "copyrightText": "EEA",
 "mensurationCapabilities": "Basic",
 "ownershipBasedAccessControlForRasters": null
}
