<?xml version="1.0" encoding="UTF-8" standalone="no"?>
<metadata xml:lang="en">
<Esri>
<CreaDate>20191216</CreaDate>
<CreaTime>15274400</CreaTime>
<ArcGISFormat>1.0</ArcGISFormat>
<SyncOnce>FALSE</SyncOnce>
<DataProperties>
<itemProps>
<itemName Sync="TRUE">SOS_2000_2016_DOYslopeEEA39WM.tif</itemName>
<itemLocation>
<linkage Sync="TRUE">file://\\ALGAE\U$\users\orbe\AppData\Local\ESRI\Desktop10.6\Staging\arcgis on cow3_6080 (admin)\0\cd\raster_data\SOS_2000_2016_DOYslopeEEA39WM.tif</linkage>
<protocol Sync="TRUE">Local Area Network</protocol>
</itemLocation>
<imsContentType Sync="TRUE">002</imsContentType>
<nativeExtBox>
<westBL Sync="TRUE">-5555588.989366</westBL>
<eastBL Sync="TRUE">8115911.010634</eastBL>
<southBL Sync="TRUE">2942411.053936</southBL>
<northBL Sync="TRUE">11996911.053936</northBL>
<exTypeCode Sync="TRUE">1</exTypeCode>
</nativeExtBox>
</itemProps>
<coordRef>
<type Sync="TRUE">Projected</type>
<geogcsn Sync="TRUE">GCS_WGS_1984</geogcsn>
<csUnits Sync="TRUE">Linear Unit: Meter (1.000000)</csUnits>
<projcsn Sync="TRUE">WGS_1984_Web_Mercator_Auxiliary_Sphere</projcsn>
<peXml Sync="TRUE">&lt;ProjectedCoordinateSystem xsi:type='typens:ProjectedCoordinateSystem' xmlns:xsi='http://www.w3.org/2001/XMLSchema-instance' xmlns:xs='http://www.w3.org/2001/XMLSchema' xmlns:typens='http://www.esri.com/schemas/ArcGIS/10.6'&gt;&lt;WKT&gt;PROJCS[&amp;quot;WGS_1984_Web_Mercator_Auxiliary_Sphere&amp;quot;,GEOGCS[&amp;quot;GCS_WGS_1984&amp;quot;,DATUM[&amp;quot;D_WGS_1984&amp;quot;,SPHEROID[&amp;quot;WGS_1984&amp;quot;,6378137.0,298.257223563]],PRIMEM[&amp;quot;Greenwich&amp;quot;,0.0],UNIT[&amp;quot;Degree&amp;quot;,0.0174532925199433]],PROJECTION[&amp;quot;Mercator_Auxiliary_Sphere&amp;quot;],PARAMETER[&amp;quot;False_Easting&amp;quot;,0.0],PARAMETER[&amp;quot;False_Northing&amp;quot;,0.0],PARAMETER[&amp;quot;Central_Meridian&amp;quot;,0.0],PARAMETER[&amp;quot;Standard_Parallel_1&amp;quot;,0.0],PARAMETER[&amp;quot;Auxiliary_Sphere_Type&amp;quot;,0.0],UNIT[&amp;quot;Meter&amp;quot;,1.0],AUTHORITY[&amp;quot;EPSG&amp;quot;,3857]]&lt;/WKT&gt;&lt;XOrigin&gt;-20037700&lt;/XOrigin&gt;&lt;YOrigin&gt;-30241100&lt;/YOrigin&gt;&lt;XYScale&gt;148923141.92838538&lt;/XYScale&gt;&lt;ZOrigin&gt;-100000&lt;/ZOrigin&gt;&lt;ZScale&gt;10000&lt;/ZScale&gt;&lt;MOrigin&gt;-100000&lt;/MOrigin&gt;&lt;MScale&gt;10000&lt;/MScale&gt;&lt;XYTolerance&gt;0.001&lt;/XYTolerance&gt;&lt;ZTolerance&gt;0.001&lt;/ZTolerance&gt;&lt;MTolerance&gt;0.001&lt;/MTolerance&gt;&lt;HighPrecision&gt;true&lt;/HighPrecision&gt;&lt;WKID&gt;102100&lt;/WKID&gt;&lt;LatestWKID&gt;3857&lt;/LatestWKID&gt;&lt;/ProjectedCoordinateSystem&gt;</peXml>
</coordRef>
<RasterProperties>
<General>
<PixelDepth Sync="TRUE">32</PixelDepth>
<HasColormap Sync="TRUE">FALSE</HasColormap>
<CompressionType Sync="TRUE">LZW</CompressionType>
<NumBands Sync="TRUE">1</NumBands>
<Format Sync="TRUE">TIFF</Format>
<HasPyramids Sync="TRUE">TRUE</HasPyramids>
<SourceType Sync="TRUE">continuous</SourceType>
<PixelType Sync="TRUE">floating point</PixelType>
<NoDataValue Sync="TRUE">-3.4028235e+38</NoDataValue>
</General>
</RasterProperties>
<lineage>
<Process Date="20191211" Time="155453" ToolSource="c:\program files (x86)\arcgis\desktop10.6\ArcToolbox\Toolboxes\Data Management Tools.tbx\ProjectRaster">ProjectRaster Z:\FINAL\Update_November_27_2017_Jonas_Ardö\SOS_2000_2016_DOYslopeEEA39.tif Z:\FINAL\Update_November_27_2017_Jonas_Ardö\SOS_2000_2016_DOYslopeEEA39WM.tif PROJCS['WGS_1984_Web_Mercator_Auxiliary_Sphere',GEOGCS['GCS_WGS_1984',DATUM['D_WGS_1984',SPHEROID['WGS_1984',6378137.0,298.257223563]],PRIMEM['Greenwich',0.0],UNIT['Degree',0.0174532925199433]],PROJECTION['Mercator_Auxiliary_Sphere'],PARAMETER['False_Easting',0.0],PARAMETER['False_Northing',0.0],PARAMETER['Central_Meridian',0.0],PARAMETER['Standard_Parallel_1',0.0],PARAMETER['Auxiliary_Sphere_Type',0.0],UNIT['Meter',1.0]] NEAREST "500 500" ETRS_1989_To_WGS_1984 # PROJCS['ETRS_1989_Lambert_Azimuthal_Equal_Area',GEOGCS['GCS_ETRS_1989',DATUM['D_ETRS_1989',SPHEROID['GRS_1980',6378137.0,298.257222101]],PRIMEM['Greenwich',0.0],UNIT['Degree',0.0174532925199433]],PROJECTION['Lambert_Azimuthal_Equal_Area'],PARAMETER['False_Easting',4321000.0],PARAMETER['False_Northing',3210000.0],PARAMETER['central_meridian',10.0],PARAMETER['latitude_of_origin',52.0],UNIT['Meter',1.0]]</Process>
</lineage>
<copyHistory>
<copy date="20191216" dest="\\ALGAE\U$\users\orbe\AppData\Local\ESRI\Desktop10.6\Staging\arcgis on cow3_6080 (admin)\0\cd\raster_data\SOS_2000_2016_DOYslopeEEA39WM.tif" source="\\llama4\S\arcgisserver\directories\arcgissystem\arcgisinput\PHENOLOGY\StartOfSeason_2000_2016_trend_day_of_year.ImageServer\extracted\cd\raster_data\SOS_2000_2016_DOYslopeEEA39WM.tif" time="15274400"/>
</copyHistory>
</DataProperties>
<SyncDate>20191211</SyncDate>
<SyncTime>15544800</SyncTime>
<ModDate>20191211</ModDate>
<ModTime>15544800</ModTime>
</Esri>
<dataIdInfo>
<envirDesc Sync="TRUE">Microsoft Windows 7 Version 6.1 (Build 7601) Service Pack 1; Esri ArcGIS 10.6.0.8321</envirDesc>
<dataLang>
<languageCode Sync="TRUE" value="eng"/>
<countryCode Sync="TRUE" value="GBR"/>
</dataLang>
<idCitation>
<resTitle Sync="TRUE">StartOfSeason_2000_2016_trend_day_of_year</resTitle>
<presForm>
<PresFormCd Sync="TRUE" value="005"/>
</presForm>
</idCitation>
<spatRpType>
<SpatRepTypCd Sync="TRUE" value="002"/>
</spatRpType>
<dataExt>
<geoEle>
<GeoBndBox esriExtentType="search">
<exTypeCode Sync="TRUE">1</exTypeCode>
<westBL Sync="TRUE">-49.906705</westBL>
<eastBL Sync="TRUE">72.906469</eastBL>
<northBL Sync="TRUE">72.664410</northBL>
<southBL Sync="TRUE">25.541560</southBL>
</GeoBndBox>
</geoEle>
</dataExt>
<idAbs>Trends in the start of the vegetation growing season, 2000-2016, expressed in the day of the year</idAbs>
<idPurp>Start of season trends, 2000-2016</idPurp>
<idCredit>EEA</idCredit>
<resConst>
<Consts>
<useLimit>None</useLimit>
</Consts>
</resConst>
<searchKeys>
<keyword>Vegetation phenology</keyword>
</searchKeys>
</dataIdInfo>
<mdLang>
<languageCode Sync="TRUE" value="eng"/>
<countryCode Sync="TRUE" value="GBR"/>
</mdLang>
<mdChar>
<CharSetCd Sync="TRUE" value="004"/>
</mdChar>
<distInfo>
<distFormat>
<formatName Sync="TRUE">Raster Dataset</formatName>
</distFormat>
</distInfo>
<mdHrLv>
<ScopeCd Sync="TRUE" value="005"/>
</mdHrLv>
<mdHrLvName Sync="TRUE">dataset</mdHrLvName>
<refSysInfo>
<RefSystem>
<refSysID>
<identCode Sync="TRUE" code="3857"/>
<idCodeSpace Sync="TRUE">EPSG</idCodeSpace>
<idVersion Sync="TRUE">8.8(9.3.1.2)</idVersion>
</refSysID>
</RefSystem>
</refSysInfo>
<spatRepInfo>
<Georect>
<cellGeo>
<CellGeoCd Sync="TRUE" value="002"/>
</cellGeo>
<numDims Sync="TRUE">2</numDims>
<tranParaAv Sync="TRUE">1</tranParaAv>
<chkPtAv Sync="TRUE">0</chkPtAv>
<cornerPts>
<pos Sync="TRUE">-5555588.989366 2942411.053936</pos>
</cornerPts>
<cornerPts>
<pos Sync="TRUE">-5555588.989366 11996911.053936</pos>
</cornerPts>
<cornerPts>
<pos Sync="TRUE">8115911.010634 11996911.053936</pos>
</cornerPts>
<cornerPts>
<pos Sync="TRUE">8115911.010634 2942411.053936</pos>
</cornerPts>
<centerPt>
<pos Sync="TRUE">1280161.010634 7469661.053936</pos>
</centerPt>
<axisDimension type="002">
<dimSize Sync="TRUE">27343</dimSize>
<dimResol>
<value Sync="TRUE" uom="m">500.000000</value>
</dimResol>
</axisDimension>
<axisDimension type="001">
<dimSize Sync="TRUE">18109</dimSize>
<dimResol>
<value Sync="TRUE" uom="m">500.000000</value>
</dimResol>
</axisDimension>
<ptInPixel>
<PixOrientCd Sync="TRUE" value="001"/>
</ptInPixel>
</Georect>
</spatRepInfo>
<contInfo>
<ImgDesc>
<contentTyp>
<ContentTypCd Sync="TRUE" value="001"/>
</contentTyp>
<covDim>
<Band>
<dimDescrp Sync="TRUE">Band_1</dimDescrp>
<maxVal Sync="TRUE">247.500000</maxVal>
<minVal Sync="TRUE">-196.000000</minVal>
<bitsPerVal Sync="TRUE">32</bitsPerVal>
<valUnit>
<UOM type="length"/>
</valUnit>
</Band>
</covDim>
</ImgDesc>
</contInfo>
<mdDateSt Sync="TRUE">20191211</mdDateSt>
</metadata>
