View In:
ArcGIS JavaScript
🌍 EEA Discomap Portal
ArcGIS Earth
Service Description: https://sdi.eea.europa.eu/catalogue/srv/api/records/de2d0d77-a389-49d0-84d7-73a29046823f
Name: Land/Extended_wetland_ecosystem_2018
Description: https://sdi.eea.europa.eu/catalogue/srv/api/records/de2d0d77-a389-49d0-84d7-73a29046823f
Single Fused Map Cache: false
Extent:
XMin: -6290123.623699402
YMin: 2788011.0549333077
XMax: 8115876.376300598
YMax: 1.1996911054933308E7
Spatial Reference: 102100
(3857)
Initial Extent:
XMin: -6290123.623699402
YMin: 2788011.0549333077
XMax: 8115876.376300598
YMax: 1.1996911054933308E7
Spatial Reference: 102100
(3857)
Full Extent:
XMin: -6290123.623699402
YMin: 2788011.0549333077
XMax: 8115876.376300598
YMax: 1.1996911054933308E7
Spatial Reference: 102100
(3857)
Pixel Size X: 100.0
Pixel Size Y: 100.0
Band Count: 1
Pixel Type: S32
RasterFunction Infos: {"rasterFunctionInfos": [{
"name": "None",
"description": "",
"help": ""
}]}
Mensuration Capabilities: Basic
Has Histograms: true
Has Colormap: false
Has Multi Dimensions : false
Rendering Rule:
Min Scale: 0
Max Scale: 0
Copyright Text:
Service Data Type: esriImageServiceDataTypeThematic
Min Values: 1
Max Values: 65535
Mean Values: 63032.065183479
Standard Deviation Values: 12559.095317625
Object ID Field:
Fields:
None
Default Mosaic Method: Center
Allowed Mosaic Methods:
SortField:
SortValue: null
Mosaic Operator: First
Default Compression Quality: 75
Default Resampling Method: Bilinear
Max Record Count: null
Max Image Height: 4100
Max Image Width: 15000
Max Download Image Count: null
Max Mosaic Image Count: null
Allow Raster Function: true
Allow Copy: true
Allow Analysis: true
Allow Compute TiePoints: false
Supports Statistics: false
Supports Advanced Queries: false
Use StandardizedQueries: false
Raster Type Infos:
Name: Raster Dataset
Description: Supports all ArcGIS Raster Datasets
Help:
Has Raster Attribute Table: true
Edit Fields Info: null
Ownership Based AccessControl For Rasters: null
Child Resources:
Info
Raster Attribute Table
Histograms
Statistics
Key Properties
Legend
Raster Function Infos
Supported Operations:
Export Image
Identify
Measure
Compute Histograms
Compute Statistics Histograms
Get Samples
Compute Class Statistics
Query Boundary
Compute Pixel Location
Compute Angles
Validate
Project