View In:
ArcGIS JavaScript
EEA Discomap Portal
ArcGIS Earth
Service Description: https://sdi.eea.europa.eu/catalogue/srv/api/records/c7f0d613-2ec6-43c7-870b-6062652548f1
Name: LCFs/LandCoverFlows_2000_2006_v2020
Description: https://sdi.eea.europa.eu/catalogue/srv/api/records/c7f0d613-2ec6-43c7-870b-6062652548f1
Single Fused Map Cache: false
Extent:
XMin: -6290123.6236994015
YMin: 2788111.0551334918
XMax: 8115876.3763005985
YMax: 1.1996911055133492E7
Spatial Reference: 102100
(3857)
Initial Extent:
XMin: -6290123.6236994015
YMin: 2788111.0551334918
XMax: 8115876.3763005985
YMax: 1.1996911055133492E7
Spatial Reference: 102100
(3857)
Full Extent:
XMin: -6290123.6236994015
YMin: 2788111.0551334918
XMax: 8115876.3763005985
YMax: 1.1996911055133492E7
Spatial Reference: 102100
(3857)
Pixel Size X: 100.0
Pixel Size Y: 100.0
Band Count: 1
Pixel Type: S32
RasterFunction Infos: {"rasterFunctionInfos": [{
"help": "",
"name": "None",
"description": ""
}]}
Mensuration Capabilities: Basic
Inspection Capabilities:
Has Histograms: false
Has Colormap: false
Has Multi Dimensions : false
Rendering Rule:
Min Scale: 0
Max Scale: 0
Copyright Text:
Service Data Type: esriImageServiceDataTypeThematic
Min Values: 111121
Max Values: 523522
Mean Values: 301652.07252564997
Standard Deviation Values: 46025.898278170003
Object ID Field:
Fields:
None
Default Mosaic Method: Center
Allowed Mosaic Methods:
SortField:
SortValue: N/A
Mosaic Operator: First
Default Compression Quality: 75
Default Resampling Method: Bilinear
Max Record Count: null
Max Image Height: 4100
Max Image Width: 15000
Max Download Image Count: null
Max Mosaic Image Count: null
Allow Raster Function: true
Allow Copy: true
Allow Analysis: true
Allow Compute TiePoints: false
Supports Statistics: false
Supports Advanced Queries: false
Use StandardizedQueries: false
Raster Type Infos:
Name: Raster Dataset
Description: Supports all ArcGIS Raster Datasets
Help:
Has Raster Attribute Table: true
Edit Fields Info: N/A
Ownership Based AccessControl For Rasters: N/A
Child Resources:
Info
Raster Attribute Table
Statistics
Key Properties
Legend
Raster Function Infos
Supported Operations:
Export Image
Identify
Measure
Compute Histograms
Compute Statistics Histograms
Get Samples
Compute Class Statistics
Query Boundary
Compute Pixel Location
Compute Angles
Validate
Project