View In:
ArcGIS JavaScript
EEA Discomap Portal
ArcGIS Earth
Service Description: https://sdi.eea.europa.eu/catalogue/srv/api/records/b95f9c1f-00b2-4eb6-b890-3f5e11bc8c7b
Name: Land/CLC2018_CoastalZones
Description: https://sdi.eea.europa.eu/catalogue/srv/api/records/b95f9c1f-00b2-4eb6-b890-3f5e11bc8c7b
Single Fused Map Cache: false
Extent:
XMin: -7554849.5315809995
YMin: 2338852.8704060707
XMax: 9369350.468419
YMax: 1.245735287040607E7
Spatial Reference: 102100
(3857)
Initial Extent:
XMin: -7554849.5315809995
YMin: 2338852.8704060707
XMax: 9369350.468419
YMax: 1.245735287040607E7
Spatial Reference: 102100
(3857)
Full Extent:
XMin: -7554849.5315809995
YMin: 2338852.8704060707
XMax: 9369350.468419
YMax: 1.245735287040607E7
Spatial Reference: 102100
(3857)
Pixel Size X: 100.0
Pixel Size Y: 100.0
Band Count: 1
Pixel Type: U4
RasterFunction Infos: {"rasterFunctionInfos": [{
"help": "",
"name": "None",
"description": ""
}]}
Mensuration Capabilities: Basic
Inspection Capabilities:
Has Histograms: true
Has Colormap: false
Has Multi Dimensions : false
Rendering Rule:
Min Scale: 0
Max Scale: 0
Copyright Text:
Service Data Type: esriImageServiceDataTypeThematic
Min Values: 1
Max Values: 10
Mean Values: 4.3969823089368001
Standard Deviation Values: 2.8967391969444001
Object ID Field:
Fields:
None
Default Mosaic Method: Center
Allowed Mosaic Methods:
SortField:
SortValue: N/A
Mosaic Operator: First
Default Compression Quality: 75
Default Resampling Method: Bilinear
Max Record Count: null
Max Image Height: 4100
Max Image Width: 15000
Max Download Image Count: null
Max Mosaic Image Count: null
Allow Raster Function: true
Allow Copy: true
Allow Analysis: true
Allow Compute TiePoints: false
Supports Statistics: false
Supports Advanced Queries: false
Use StandardizedQueries: false
Raster Type Infos:
Name: Raster Dataset
Description: Supports all ArcGIS Raster Datasets
Help:
Has Raster Attribute Table: true
Edit Fields Info: N/A
Ownership Based AccessControl For Rasters: N/A
Child Resources:
Info
Raster Attribute Table
Histograms
Statistics
Key Properties
Legend
Raster Function Infos
Supported Operations:
Export Image
Identify
Measure
Compute Histograms
Compute Statistics Histograms
Get Samples
Compute Class Statistics
Query Boundary
Compute Pixel Location
Compute Angles
Validate
Project