View In:
ArcGIS JavaScript
EEA Discomap Portal
ArcGIS Earth
Service Description: Land/Length_Of_season_trend_2000_2016
Name: Land/Length_Of_season_trend_2000_2016
Description:
Single Fused Map Cache: false
Extent:
XMin: -5555588.989365538
YMin: 2942411.0539359506
XMax: 8115911.010634462
YMax: 1.199691105393595E7
Spatial Reference: 102100
(3857)
LatestVCSWkid(0)
Initial Extent:
XMin: -5555588.989365538
YMin: 2942411.0539359506
XMax: 8115911.010634462
YMax: 1.199691105393595E7
Spatial Reference: 102100
(3857)
LatestVCSWkid(0)
Full Extent:
XMin: -5555588.989365538
YMin: 2942411.0539359506
XMax: 8115911.010634462
YMax: 1.199691105393595E7
Spatial Reference: 102100
(3857)
LatestVCSWkid(0)
Pixel Size X: 500.0
Pixel Size Y: 500.0
Band Count: 1
Pixel Type: F32
RasterFunction Infos: {"rasterFunctionInfos": [
{
"name": "Season_length_2000_2016_long_term_mean",
"description": "Season_length_2000_2016_long_term_mean",
"help": ""
},
{
"name": "None",
"description": "",
"help": ""
}
]}
Mensuration Capabilities: Basic
Inspection Capabilities:
Has Histograms: true
Has Colormap: false
Has Multi Dimensions : false
Rendering Rule:
Min Scale: 0
Max Scale: 0
Copyright Text:
Service Data Type: esriImageServiceDataTypeGeneric
Min Values: 0
Max Values: 341
Mean Values: 139.86153786437
Standard Deviation Values: 36.980648615447
Object ID Field:
Fields:
None
Default Mosaic Method: Center
Allowed Mosaic Methods:
SortField:
SortValue: null
Mosaic Operator: First
Default Compression Quality: 75
Default Resampling Method: Bilinear
Max Record Count: null
Max Image Height: 4100
Max Image Width: 15000
Max Download Image Count: null
Max Mosaic Image Count: null
Allow Raster Function: true
Allow Copy: true
Allow Analysis: true
Allow Compute TiePoints: false
Supports Statistics: false
Supports Advanced Queries: false
Use StandardizedQueries: false
Raster Type Infos:
Name: Raster Dataset
Description: Supports all ArcGIS Raster Datasets
Help:
Has Raster Attribute Table: false
Edit Fields Info: null
Ownership Based AccessControl For Rasters: null
Child Resources:
Info
Histograms
Statistics
Key Properties
Legend
Raster Function Infos
Supported Operations:
Export Image
Identify
Measure
Compute Histograms
Compute Statistics Histograms
Get Samples
Compute Class Statistics
Query Boundary
Compute Pixel Location
Compute Angles
Validate
Project