View In:
ArcGIS JavaScript
EEA Discomap Portal
ArcGIS Earth
Service Description: Productivity 2000 2019 long term mean
Name: Phenology/Productivity_2000_2019_long_term_mean
Description: Productivity 2000 2019 long term mean
Single Fused Map Cache: false
Extent:
XMin: 1499900.0
YMin: 900000.0
XMax: 7399900.0
YMax: 5500000.0
Spatial Reference: 3035
(3035)
Initial Extent:
XMin: 1499900.0
YMin: 900000.0
XMax: 7399900.0
YMax: 5500000.0
Spatial Reference: 3035
(3035)
Full Extent:
XMin: 1499900.0
YMin: 900000.0
XMax: 7399900.0
YMax: 5500000.0
Spatial Reference: 3035
(3035)
Pixel Size X: 500.0
Pixel Size Y: 500.0
Band Count: 1
Pixel Type: F32
RasterFunction Infos: {"rasterFunctionInfos": [
{
"help": "",
"name": "Stretched",
"description": "A raster function template."
},
{
"help": "",
"name": "None",
"description": ""
}
]}
Mensuration Capabilities: Basic
Inspection Capabilities:
Has Histograms: false
Has Colormap: false
Has Multi Dimensions : false
Rendering Rule:
Min Scale: 0
Max Scale: 0
Copyright Text: EEA-ETC/DI
Service Data Type: esriImageServiceDataTypeGeneric
Min Values: N/A
Max Values: N/A
Mean Values: N/A
Standard Deviation Values: N/A
Object ID Field:
Fields:
None
Default Mosaic Method: Center
Allowed Mosaic Methods:
SortField:
SortValue: N/A
Mosaic Operator: First
Default Compression Quality: 75
Default Resampling Method: Bilinear
Max Record Count: null
Max Image Height: 4100
Max Image Width: 15000
Max Download Image Count: null
Max Mosaic Image Count: null
Allow Raster Function: true
Allow Copy: true
Allow Analysis: true
Allow Compute TiePoints: false
Supports Statistics: false
Supports Advanced Queries: false
Use StandardizedQueries: false
Raster Type Infos:
Name: Raster Dataset
Description: Supports all ArcGIS Raster Datasets
Help:
Has Raster Attribute Table: false
Edit Fields Info: N/A
Ownership Based AccessControl For Rasters: N/A
Child Resources:
Info
Statistics
Key Properties
Legend
Raster Function Infos
Supported Operations:
Export Image
Identify
Measure
Compute Histograms
Compute Statistics Histograms
Get Samples
Compute Class Statistics
Query Boundary
Compute Pixel Location
Compute Angles
Validate
Project