View In:
ArcGIS JavaScript
EEA Discomap Portal
ArcGIS Earth
Service Description: Trends in the start of the vegetation growing season, 2000-2016, expressed in the day of the year
Name: Phenology/StartOfSeason_2000_2016_trend_day_of_year
Description: Trends in the start of the vegetation growing season, 2000-2016, expressed in the day of the year
Single Fused Map Cache: false
Extent:
XMin: -5555588.989365538
YMin: 2942411.0539359506
XMax: 8115911.010634462
YMax: 1.199691105393595E7
Spatial Reference: 102100
(3857)
Initial Extent:
XMin: -5555588.989365538
YMin: 2942411.0539359506
XMax: 8115911.010634462
YMax: 1.199691105393595E7
Spatial Reference: 102100
(3857)
Full Extent:
XMin: -5555588.989365538
YMin: 2942411.0539359506
XMax: 8115911.010634462
YMax: 1.199691105393595E7
Spatial Reference: 102100
(3857)
Pixel Size X: 500.0
Pixel Size Y: 500.0
Band Count: 1
Pixel Type: F32
RasterFunction Infos: {"rasterFunctionInfos": [
{
"help": "",
"name": "StartOfSeason_2000_2016_trend_day_of_year",
"description": "StartOfSeason_2000_2016_trend_day_of_year"
},
{
"help": "",
"name": "None",
"description": ""
}
]}
Mensuration Capabilities: Basic
Inspection Capabilities:
Has Histograms: true
Has Colormap: false
Has Multi Dimensions : false
Rendering Rule:
Min Scale: 0
Max Scale: 0
Resampling: false
Copyright Text: EEA
Service Data Type: esriImageServiceDataTypeGeneric
Min Values: -196
Max Values: 247.5
Mean Values: -0.24375831864788
Standard Deviation Values: 1.3680566661766
Object ID Field:
Fields:
None
Default Mosaic Method: Center
Allowed Mosaic Methods:
SortField:
SortValue: N/A
Mosaic Operator: First
Default Compression Quality: 75
Default Resampling Method: Bilinear
Max Record Count: null
Max Image Height: 4100
Max Image Width: 15000
Max Download Image Count: null
Max Mosaic Image Count: null
Allow Raster Function: true
Allow Copy: true
Allow Analysis: true
Allow Compute TiePoints: false
Supports Statistics: false
Supports Advanced Queries: false
Use StandardizedQueries: false
Raster Type Infos:
Name: Raster Dataset
Description: Supports all ArcGIS Raster Datasets
Help:
Has Raster Attribute Table: false
Edit Fields Info: N/A
Ownership Based AccessControl For Rasters: N/A
Child Resources:
Info
Histograms
Statistics
Key Properties
Legend
Raster Function Infos
Supported Operations:
Export Image
Identify
Measure
Compute Histograms
Compute Statistics Histograms
Get Samples
Compute Class Statistics
Query Boundary
Compute Pixel Location
Compute Angles
Validate
Project